BEGIN:VCALENDAR
VERSION:2.0
PRODID:-//Eventin//Event Calendar//EN
CALSCALE:GREGORIAN
METHOD:PUBLISH
BEGIN:VEVENT
UID:4f9de75ae9079861b9b1ee9e37ebe3ac@www.glbcholly.com
SUMMARY:25th Anniversary Weekend
DESCRIPTION:
LOCATION:Great Lakes Bible Church
DTSTAMP:20260424T115017Z
DTSTART:20260718T040000Z
DTEND:20260719T040000Z
END:VEVENT
END:VCALENDAR
